BEGIN:VCALENDAR
VERSION:2.0
PRODID:spatie/icalendar-generator
DESCRIPTION:Veranstaltungen von RSG Ried Rastatt e.V.
X-WR-CALDESC:Veranstaltungen von RSG Ried Rastatt e.V.
REFRESH-INTERVAL;VALUE=DURATION:PT1440M
X-PUBLISHED-TTL:PT1440M
BEGIN:VTIMEZONE
TZID:Europe/Berlin
BEGIN:DAYLIGHT
DTSTART:20250330T020000Z
TZOFFSETFROM:+0100
TZOFFSETTO:+0200
END:DAYLIGHT
BEGIN:STANDARD
DTSTART:20251026T030000Z
TZOFFSETFROM:+0200
TZOFFSETTO:+0100
END:STANDARD
END:VTIMEZONE
BEGIN:VTIMEZONE
TZID:UTC
BEGIN:STANDARD
DTSTART:20250726T120350Z
TZOFFSETFROM:+0000
TZOFFSETTO:+0000
END:STANDARD
END:VTIMEZONE
BEGIN:VEVENT
UID:54-44
DTSTAMP:20260422T120350Z
SUMMARY:Paarzeitfahren
LOCATION:
ORGANIZER;CN=Alexander Wolf:MAILTO:mail@alexander-wolf.net
DTSTART;TZID=Europe/Berlin:20250724T190000
DTEND;TZID=Europe/Berlin:20250724T200000
X-ALT-DESC;FMTTYPE=TEXT/HTML:
CATEGORIES:Allgemein
URL;VALUE=URI:https://rsg-ried-rastatt.de/mc-events/paarzeitfahren-3/
METHOD:PUBLISH
END:VEVENT
END:VCALENDAR