BEGIN:VCALENDAR
VERSION:2.0
PRODID:spatie/icalendar-generator
DESCRIPTION:Veranstaltungen von RSG Ried Rastatt e.V.
X-WR-CALDESC:Veranstaltungen von RSG Ried Rastatt e.V.
REFRESH-INTERVAL;VALUE=DURATION:PT1440M
X-PUBLISHED-TTL:PT1440M
BEGIN:VTIMEZONE
TZID:Europe/Berlin
BEGIN:STANDARD
DTSTART:20251026T030000Z
TZOFFSETFROM:+0200
TZOFFSETTO:+0100
END:STANDARD
BEGIN:DAYLIGHT
DTSTART:20260329T020000Z
TZOFFSETFROM:+0100
TZOFFSETTO:+0200
END:DAYLIGHT
END:VTIMEZONE
BEGIN:VTIMEZONE
TZID:UTC
BEGIN:STANDARD
DTSTART:20250724T201436Z
TZOFFSETFROM:+0000
TZOFFSETTO:+0000
END:STANDARD
END:VTIMEZONE
BEGIN:VEVENT
UID:71-51
DTSTAMP:20260420T201436Z
SUMMARY:Jahreshauptversammlung
LOCATION:
ORGANIZER;CN=Alexander Wolf:MAILTO:mail@alexander-wolf.net
DTSTART;TZID=Europe/Berlin;VALUE=DATE:20260321
DTEND;TZID=Europe/Berlin;VALUE=DATE:20260322
X-ALT-DESC;FMTTYPE=TEXT/HTML:Alternativtermin: 09.05.2026
CATEGORIES:Allgemein
URL;VALUE=URI:https://rsg-ried-rastatt.de/mc-events/jahreshauptversammlung-
 4/
METHOD:PUBLISH
END:VEVENT
END:VCALENDAR